BEGIN:VCALENDAR
VERSION:2.0
PRODID:-//St. Francis Xavier Catholic Church - ECPv6.9.0//NONSGML v1.0//EN
CALSCALE:GREGORIAN
METHOD:PUBLISH
X-WR-CALNAME:St. Francis Xavier Catholic Church
X-ORIGINAL-URL:https://stfrancisfm.org
X-WR-CALDESC:Events for St. Francis Xavier Catholic Church
REFRESH-INTERVAL;VALUE=DURATION:PT1H
X-Robots-Tag:noindex
X-PUBLISHED-TTL:PT1H
BEGIN:VTIMEZONE
TZID:UTC
BEGIN:STANDARD
TZOFFSETFROM:+0000
TZOFFSETTO:+0000
TZNAME:UTC
DTSTART:20250101T000000
END:STANDARD
END:VTIMEZONE
BEGIN:VEVENT
DTSTART;TZID=UTC:20251102T100000
DTEND;TZID=UTC:20251102T123000
DTSTAMP:20260422T142542
CREATED:20250814T210145Z
LAST-MODIFIED:20250814T210608Z
UID:10001419-1762077600-1762086600@stfrancisfm.org
SUMMARY:Middle School Youth Group Grades 5-8
DESCRIPTION:Middle School Youth Group is our Religious Education Program for grades 5 – 8. \n  \n  \n 
URL:https://stfrancisfm.org/event/middle-school-youth-group-grades-5-8/2025-11-02/
LOCATION:Ministry Center\, FL\, United States
END:VEVENT
BEGIN:VEVENT
DTSTART;TZID=UTC:20251030T180000
DTEND;TZID=UTC:20251030T200000
DTSTAMP:20260422T142542
CREATED:20250815T183621Z
LAST-MODIFIED:20250815T183738Z
UID:10001476-1761847200-1761854400@stfrancisfm.org
SUMMARY:OCIA - The Order of Christian Initiation of Adults
DESCRIPTION:The Order of Christian Initiation of Adults meetings.  For those already registered who are not baptized\, baptized another Christian Faith\, or are adult Catholics who need their First Communion and Confirmation. \nMeetings:  Thursdays in the Ministry Center\, 6:00-8:00pm. \n  \nYou must be pre-registered to attend.  Contact Michael at the Parish Office (239-334-2161) to register.
URL:https://stfrancisfm.org/event/ocia-the-order-of-christian-initiation-of-adults/2025-10-30/
LOCATION:Ministry Center\, FL\, United States
END:VEVENT
BEGIN:VEVENT
DTSTART;TZID=UTC:20251023T180000
DTEND;TZID=UTC:20251023T200000
DTSTAMP:20260422T142542
CREATED:20250815T183621Z
LAST-MODIFIED:20250815T183738Z
UID:10001475-1761242400-1761249600@stfrancisfm.org
SUMMARY:OCIA - The Order of Christian Initiation of Adults
DESCRIPTION:The Order of Christian Initiation of Adults meetings.  For those already registered who are not baptized\, baptized another Christian Faith\, or are adult Catholics who need their First Communion and Confirmation. \nMeetings:  Thursdays in the Ministry Center\, 6:00-8:00pm. \n  \nYou must be pre-registered to attend.  Contact Michael at the Parish Office (239-334-2161) to register.
URL:https://stfrancisfm.org/event/ocia-the-order-of-christian-initiation-of-adults/2025-10-23/
LOCATION:Ministry Center\, FL\, United States
END:VEVENT
BEGIN:VEVENT
DTSTART;TZID=UTC:20251016T180000
DTEND;TZID=UTC:20251016T200000
DTSTAMP:20260422T142542
CREATED:20250815T183621Z
LAST-MODIFIED:20250815T183738Z
UID:10001474-1760637600-1760644800@stfrancisfm.org
SUMMARY:OCIA - The Order of Christian Initiation of Adults
DESCRIPTION:The Order of Christian Initiation of Adults meetings.  For those already registered who are not baptized\, baptized another Christian Faith\, or are adult Catholics who need their First Communion and Confirmation. \nMeetings:  Thursdays in the Ministry Center\, 6:00-8:00pm. \n  \nYou must be pre-registered to attend.  Contact Michael at the Parish Office (239-334-2161) to register.
URL:https://stfrancisfm.org/event/ocia-the-order-of-christian-initiation-of-adults/2025-10-16/
LOCATION:Ministry Center\, FL\, United States
END:VEVENT
BEGIN:VEVENT
DTSTART;TZID=UTC:20251009T180000
DTEND;TZID=UTC:20251009T200000
DTSTAMP:20260422T142542
CREATED:20250815T183621Z
LAST-MODIFIED:20250815T183738Z
UID:10001473-1760032800-1760040000@stfrancisfm.org
SUMMARY:OCIA - The Order of Christian Initiation of Adults
DESCRIPTION:The Order of Christian Initiation of Adults meetings.  For those already registered who are not baptized\, baptized another Christian Faith\, or are adult Catholics who need their First Communion and Confirmation. \nMeetings:  Thursdays in the Ministry Center\, 6:00-8:00pm. \n  \nYou must be pre-registered to attend.  Contact Michael at the Parish Office (239-334-2161) to register.
URL:https://stfrancisfm.org/event/ocia-the-order-of-christian-initiation-of-adults/2025-10-09/
LOCATION:Ministry Center\, FL\, United States
END:VEVENT
BEGIN:VEVENT
DTSTART;TZID=UTC:20251005T100000
DTEND;TZID=UTC:20251005T123000
DTSTAMP:20260422T142542
CREATED:20250814T210145Z
LAST-MODIFIED:20250814T210608Z
UID:10001418-1759658400-1759667400@stfrancisfm.org
SUMMARY:Middle School Youth Group Grades 5-8
DESCRIPTION:Middle School Youth Group is our Religious Education Program for grades 5 – 8. \n  \n  \n 
URL:https://stfrancisfm.org/event/middle-school-youth-group-grades-5-8/2025-10-05/
LOCATION:Ministry Center\, FL\, United States
END:VEVENT
BEGIN:VEVENT
DTSTART;TZID=UTC:20251002T180000
DTEND;TZID=UTC:20251002T200000
DTSTAMP:20260422T142542
CREATED:20250815T183621Z
LAST-MODIFIED:20250815T183738Z
UID:10001472-1759428000-1759435200@stfrancisfm.org
SUMMARY:OCIA - The Order of Christian Initiation of Adults
DESCRIPTION:The Order of Christian Initiation of Adults meetings.  For those already registered who are not baptized\, baptized another Christian Faith\, or are adult Catholics who need their First Communion and Confirmation. \nMeetings:  Thursdays in the Ministry Center\, 6:00-8:00pm. \n  \nYou must be pre-registered to attend.  Contact Michael at the Parish Office (239-334-2161) to register.
URL:https://stfrancisfm.org/event/ocia-the-order-of-christian-initiation-of-adults/2025-10-02/
LOCATION:Ministry Center\, FL\, United States
END:VEVENT
BEGIN:VEVENT
DTSTART;TZID=UTC:20250928T100000
DTEND;TZID=UTC:20250928T123000
DTSTAMP:20260422T142542
CREATED:20250814T214503Z
LAST-MODIFIED:20250814T214514Z
UID:10001448-1759053600-1759062600@stfrancisfm.org
SUMMARY:High School Youth Group Grades 9 -12
DESCRIPTION:High School Youth Group is our Religious Education Program for grades 9 – 12. \n  \n  \n 
URL:https://stfrancisfm.org/event/high-school-youth-group-grades-9-12/2025-09-28/
LOCATION:Ministry Center\, FL\, United States
END:VEVENT
BEGIN:VEVENT
DTSTART;TZID=UTC:20250928T100000
DTEND;TZID=UTC:20250928T123000
DTSTAMP:20260422T142542
CREATED:20250814T210145Z
LAST-MODIFIED:20250814T210608Z
UID:10001417-1759053600-1759062600@stfrancisfm.org
SUMMARY:Middle School Youth Group Grades 5-8
DESCRIPTION:Middle School Youth Group is our Religious Education Program for grades 5 – 8. \n  \n  \n 
URL:https://stfrancisfm.org/event/middle-school-youth-group-grades-5-8/2025-09-28/
LOCATION:Ministry Center\, FL\, United States
END:VEVENT
BEGIN:VEVENT
DTSTART;TZID=UTC:20250925T180000
DTEND;TZID=UTC:20250925T200000
DTSTAMP:20260422T142542
CREATED:20250815T183621Z
LAST-MODIFIED:20250815T183738Z
UID:10001471-1758823200-1758830400@stfrancisfm.org
SUMMARY:OCIA - The Order of Christian Initiation of Adults
DESCRIPTION:The Order of Christian Initiation of Adults meetings.  For those already registered who are not baptized\, baptized another Christian Faith\, or are adult Catholics who need their First Communion and Confirmation. \nMeetings:  Thursdays in the Ministry Center\, 6:00-8:00pm. \n  \nYou must be pre-registered to attend.  Contact Michael at the Parish Office (239-334-2161) to register.
URL:https://stfrancisfm.org/event/ocia-the-order-of-christian-initiation-of-adults/2025-09-25/
LOCATION:Ministry Center\, FL\, United States
END:VEVENT
BEGIN:VEVENT
DTSTART;TZID=UTC:20250921T100000
DTEND;TZID=UTC:20250921T123000
DTSTAMP:20260422T142542
CREATED:20250814T214503Z
LAST-MODIFIED:20250814T214514Z
UID:10001447-1758448800-1758457800@stfrancisfm.org
SUMMARY:High School Youth Group Grades 9 -12
DESCRIPTION:High School Youth Group is our Religious Education Program for grades 9 – 12. \n  \n  \n 
URL:https://stfrancisfm.org/event/high-school-youth-group-grades-9-12/2025-09-21/
LOCATION:Ministry Center\, FL\, United States
END:VEVENT
BEGIN:VEVENT
DTSTART;TZID=UTC:20250921T100000
DTEND;TZID=UTC:20250921T123000
DTSTAMP:20260422T142542
CREATED:20250814T210145Z
LAST-MODIFIED:20250814T210608Z
UID:10001416-1758448800-1758457800@stfrancisfm.org
SUMMARY:Middle School Youth Group Grades 5-8
DESCRIPTION:Middle School Youth Group is our Religious Education Program for grades 5 – 8. \n  \n  \n 
URL:https://stfrancisfm.org/event/middle-school-youth-group-grades-5-8/2025-09-21/
LOCATION:Ministry Center\, FL\, United States
END:VEVENT
BEGIN:VEVENT
DTSTART;TZID=UTC:20250526T180000
DTEND;TZID=UTC:20250526T193000
DTSTAMP:20260422T142542
CREATED:20240516T031014Z
LAST-MODIFIED:20240516T034240Z
UID:10000788-1748282400-1748287800@stfrancisfm.org
SUMMARY:Bible Study
DESCRIPTION:Join us weekly for Bible Study. \nWHEN:  Monday nights \nTIME:  6:00pm-7:30pm \nWHERE:  Ministry Center
URL:https://stfrancisfm.org/event/bible-study/2025-05-26/
LOCATION:Ministry Center\, FL\, United States
END:VEVENT
BEGIN:VEVENT
DTSTART;TZID=UTC:20250519T180000
DTEND;TZID=UTC:20250519T193000
DTSTAMP:20260422T142542
CREATED:20240516T031014Z
LAST-MODIFIED:20240516T034240Z
UID:10000787-1747677600-1747683000@stfrancisfm.org
SUMMARY:Bible Study
DESCRIPTION:Join us weekly for Bible Study. \nWHEN:  Monday nights \nTIME:  6:00pm-7:30pm \nWHERE:  Ministry Center
URL:https://stfrancisfm.org/event/bible-study/2025-05-19/
LOCATION:Ministry Center\, FL\, United States
END:VEVENT
BEGIN:VEVENT
DTSTART;TZID=UTC:20250512T180000
DTEND;TZID=UTC:20250512T193000
DTSTAMP:20260422T142542
CREATED:20240516T031014Z
LAST-MODIFIED:20240516T034240Z
UID:10000786-1747072800-1747078200@stfrancisfm.org
SUMMARY:Bible Study
DESCRIPTION:Join us weekly for Bible Study. \nWHEN:  Monday nights \nTIME:  6:00pm-7:30pm \nWHERE:  Ministry Center
URL:https://stfrancisfm.org/event/bible-study/2025-05-12/
LOCATION:Ministry Center\, FL\, United States
END:VEVENT
BEGIN:VEVENT
DTSTART;TZID=UTC:20250505T180000
DTEND;TZID=UTC:20250505T193000
DTSTAMP:20260422T142542
CREATED:20240516T031014Z
LAST-MODIFIED:20240516T034240Z
UID:10000785-1746468000-1746473400@stfrancisfm.org
SUMMARY:Bible Study
DESCRIPTION:Join us weekly for Bible Study. \nWHEN:  Monday nights \nTIME:  6:00pm-7:30pm \nWHERE:  Ministry Center
URL:https://stfrancisfm.org/event/bible-study/2025-05-05/
LOCATION:Ministry Center\, FL\, United States
END:VEVENT
BEGIN:VEVENT
DTSTART;TZID=UTC:20250428T180000
DTEND;TZID=UTC:20250428T193000
DTSTAMP:20260422T142542
CREATED:20240516T031014Z
LAST-MODIFIED:20240516T034240Z
UID:10000784-1745863200-1745868600@stfrancisfm.org
SUMMARY:Bible Study
DESCRIPTION:Join us weekly for Bible Study. \nWHEN:  Monday nights \nTIME:  6:00pm-7:30pm \nWHERE:  Ministry Center
URL:https://stfrancisfm.org/event/bible-study/2025-04-28/
LOCATION:Ministry Center\, FL\, United States
END:VEVENT
BEGIN:VEVENT
DTSTART;TZID=UTC:20250421T180000
DTEND;TZID=UTC:20250421T193000
DTSTAMP:20260422T142542
CREATED:20240516T031014Z
LAST-MODIFIED:20240516T034240Z
UID:10000783-1745258400-1745263800@stfrancisfm.org
SUMMARY:Bible Study
DESCRIPTION:Join us weekly for Bible Study. \nWHEN:  Monday nights \nTIME:  6:00pm-7:30pm \nWHERE:  Ministry Center
URL:https://stfrancisfm.org/event/bible-study/2025-04-21/
LOCATION:Ministry Center\, FL\, United States
END:VEVENT
BEGIN:VEVENT
DTSTART;TZID=UTC:20250414T180000
DTEND;TZID=UTC:20250414T193000
DTSTAMP:20260422T142542
CREATED:20240516T031014Z
LAST-MODIFIED:20240516T034240Z
UID:10000782-1744653600-1744659000@stfrancisfm.org
SUMMARY:Bible Study
DESCRIPTION:Join us weekly for Bible Study. \nWHEN:  Monday nights \nTIME:  6:00pm-7:30pm \nWHERE:  Ministry Center
URL:https://stfrancisfm.org/event/bible-study/2025-04-14/
LOCATION:Ministry Center\, FL\, United States
END:VEVENT
BEGIN:VEVENT
DTSTART;TZID=UTC:20250407T180000
DTEND;TZID=UTC:20250407T193000
DTSTAMP:20260422T142542
CREATED:20240516T031014Z
LAST-MODIFIED:20240516T034240Z
UID:10000781-1744048800-1744054200@stfrancisfm.org
SUMMARY:Bible Study
DESCRIPTION:Join us weekly for Bible Study. \nWHEN:  Monday nights \nTIME:  6:00pm-7:30pm \nWHERE:  Ministry Center
URL:https://stfrancisfm.org/event/bible-study/2025-04-07/
LOCATION:Ministry Center\, FL\, United States
END:VEVENT
BEGIN:VEVENT
DTSTART;TZID=UTC:20250331T180000
DTEND;TZID=UTC:20250331T193000
DTSTAMP:20260422T142542
CREATED:20240516T031014Z
LAST-MODIFIED:20240516T034240Z
UID:10000780-1743444000-1743449400@stfrancisfm.org
SUMMARY:Bible Study
DESCRIPTION:Join us weekly for Bible Study. \nWHEN:  Monday nights \nTIME:  6:00pm-7:30pm \nWHERE:  Ministry Center
URL:https://stfrancisfm.org/event/bible-study/2025-03-31/
LOCATION:Ministry Center\, FL\, United States
END:VEVENT
BEGIN:VEVENT
DTSTART;TZID=UTC:20250324T180000
DTEND;TZID=UTC:20250324T193000
DTSTAMP:20260422T142542
CREATED:20240516T031014Z
LAST-MODIFIED:20240516T034240Z
UID:10000779-1742839200-1742844600@stfrancisfm.org
SUMMARY:Bible Study
DESCRIPTION:Join us weekly for Bible Study. \nWHEN:  Monday nights \nTIME:  6:00pm-7:30pm \nWHERE:  Ministry Center
URL:https://stfrancisfm.org/event/bible-study/2025-03-24/
LOCATION:Ministry Center\, FL\, United States
END:VEVENT
BEGIN:VEVENT
DTSTART;TZID=UTC:20250317T180000
DTEND;TZID=UTC:20250317T193000
DTSTAMP:20260422T142542
CREATED:20240516T031014Z
LAST-MODIFIED:20240516T034240Z
UID:10000778-1742234400-1742239800@stfrancisfm.org
SUMMARY:Bible Study
DESCRIPTION:Join us weekly for Bible Study. \nWHEN:  Monday nights \nTIME:  6:00pm-7:30pm \nWHERE:  Ministry Center
URL:https://stfrancisfm.org/event/bible-study/2025-03-17/
LOCATION:Ministry Center\, FL\, United States
END:VEVENT
BEGIN:VEVENT
DTSTART;TZID=UTC:20250310T180000
DTEND;TZID=UTC:20250310T193000
DTSTAMP:20260422T142542
CREATED:20240516T031014Z
LAST-MODIFIED:20240516T034240Z
UID:10000777-1741629600-1741635000@stfrancisfm.org
SUMMARY:Bible Study
DESCRIPTION:Join us weekly for Bible Study. \nWHEN:  Monday nights \nTIME:  6:00pm-7:30pm \nWHERE:  Ministry Center
URL:https://stfrancisfm.org/event/bible-study/2025-03-10/
LOCATION:Ministry Center\, FL\, United States
END:VEVENT
BEGIN:VEVENT
DTSTART;TZID=UTC:20250303T180000
DTEND;TZID=UTC:20250303T193000
DTSTAMP:20260422T142542
CREATED:20240516T031014Z
LAST-MODIFIED:20240516T034240Z
UID:10000776-1741024800-1741030200@stfrancisfm.org
SUMMARY:Bible Study
DESCRIPTION:Join us weekly for Bible Study. \nWHEN:  Monday nights \nTIME:  6:00pm-7:30pm \nWHERE:  Ministry Center
URL:https://stfrancisfm.org/event/bible-study/2025-03-03/
LOCATION:Ministry Center\, FL\, United States
END:VEVENT
BEGIN:VEVENT
DTSTART;TZID=UTC:20250224T180000
DTEND;TZID=UTC:20250224T193000
DTSTAMP:20260422T142542
CREATED:20240516T031014Z
LAST-MODIFIED:20240516T034240Z
UID:10000775-1740420000-1740425400@stfrancisfm.org
SUMMARY:Bible Study
DESCRIPTION:Join us weekly for Bible Study. \nWHEN:  Monday nights \nTIME:  6:00pm-7:30pm \nWHERE:  Ministry Center
URL:https://stfrancisfm.org/event/bible-study/2025-02-24/
LOCATION:Ministry Center\, FL\, United States
END:VEVENT
BEGIN:VEVENT
DTSTART;TZID=UTC:20250217T180000
DTEND;TZID=UTC:20250217T193000
DTSTAMP:20260422T142542
CREATED:20240516T031014Z
LAST-MODIFIED:20240516T034240Z
UID:10000774-1739815200-1739820600@stfrancisfm.org
SUMMARY:Bible Study
DESCRIPTION:Join us weekly for Bible Study. \nWHEN:  Monday nights \nTIME:  6:00pm-7:30pm \nWHERE:  Ministry Center
URL:https://stfrancisfm.org/event/bible-study/2025-02-17/
LOCATION:Ministry Center\, FL\, United States
END:VEVENT
BEGIN:VEVENT
DTSTART;TZID=UTC:20250210T180000
DTEND;TZID=UTC:20250210T193000
DTSTAMP:20260422T142542
CREATED:20240516T031014Z
LAST-MODIFIED:20240516T034240Z
UID:10000773-1739210400-1739215800@stfrancisfm.org
SUMMARY:Bible Study
DESCRIPTION:Join us weekly for Bible Study. \nWHEN:  Monday nights \nTIME:  6:00pm-7:30pm \nWHERE:  Ministry Center
URL:https://stfrancisfm.org/event/bible-study/2025-02-10/
LOCATION:Ministry Center\, FL\, United States
END:VEVENT
BEGIN:VEVENT
DTSTART;TZID=UTC:20250203T180000
DTEND;TZID=UTC:20250203T193000
DTSTAMP:20260422T142542
CREATED:20240516T031014Z
LAST-MODIFIED:20240516T034240Z
UID:10000772-1738605600-1738611000@stfrancisfm.org
SUMMARY:Bible Study
DESCRIPTION:Join us weekly for Bible Study. \nWHEN:  Monday nights \nTIME:  6:00pm-7:30pm \nWHERE:  Ministry Center
URL:https://stfrancisfm.org/event/bible-study/2025-02-03/
LOCATION:Ministry Center\, FL\, United States
END:VEVENT
BEGIN:VEVENT
DTSTART;TZID=UTC:20250127T180000
DTEND;TZID=UTC:20250127T193000
DTSTAMP:20260422T142542
CREATED:20240516T031014Z
LAST-MODIFIED:20240516T034240Z
UID:10000771-1738000800-1738006200@stfrancisfm.org
SUMMARY:Bible Study
DESCRIPTION:Join us weekly for Bible Study. \nWHEN:  Monday nights \nTIME:  6:00pm-7:30pm \nWHERE:  Ministry Center
URL:https://stfrancisfm.org/event/bible-study/2025-01-27/
LOCATION:Ministry Center\, FL\, United States
END:VEVENT
END:VCALENDAR