BEGIN:VCALENDAR
VERSION:2.0
PRODID:-//St. Francis Xavier Catholic Church - ECPv6.9.0//NONSGML v1.0//EN
CALSCALE:GREGORIAN
METHOD:PUBLISH
X-ORIGINAL-URL:https://stfrancisfm.org
X-WR-CALDESC:Events for St. Francis Xavier Catholic Church
REFRESH-INTERVAL;VALUE=DURATION:PT1H
X-Robots-Tag:noindex
X-PUBLISHED-TTL:PT1H
BEGIN:VTIMEZONE
TZID:UTC
BEGIN:STANDARD
TZOFFSETFROM:+0000
TZOFFSETTO:+0000
TZNAME:UTC
DTSTART:20240101T000000
END:STANDARD
END:VTIMEZONE
BEGIN:VEVENT
DTSTART;TZID=UTC:20240701T180000
DTEND;TZID=UTC:20240701T193000
DTSTAMP:20260424T122648
CREATED:20240516T031014Z
LAST-MODIFIED:20240516T034240Z
UID:10000741-1719856800-1719862200@stfrancisfm.org
SUMMARY:Bible Study
DESCRIPTION:Join us weekly for Bible Study. \nWHEN:  Monday nights \nTIME:  6:00pm-7:30pm \nWHERE:  Ministry Center
URL:https://stfrancisfm.org/event/bible-study/2024-07-01/
LOCATION:Ministry Center\, FL\, United States
END:VEVENT
BEGIN:VEVENT
DTSTART;TZID=UTC:20240624T180000
DTEND;TZID=UTC:20240624T193000
DTSTAMP:20260424T122648
CREATED:20240516T031014Z
LAST-MODIFIED:20240516T034240Z
UID:10000740-1719252000-1719257400@stfrancisfm.org
SUMMARY:Bible Study
DESCRIPTION:Join us weekly for Bible Study. \nWHEN:  Monday nights \nTIME:  6:00pm-7:30pm \nWHERE:  Ministry Center
URL:https://stfrancisfm.org/event/bible-study/2024-06-24/
LOCATION:Ministry Center\, FL\, United States
END:VEVENT
BEGIN:VEVENT
DTSTART;TZID=UTC:20240617T180000
DTEND;TZID=UTC:20240617T193000
DTSTAMP:20260424T122648
CREATED:20240516T031014Z
LAST-MODIFIED:20240516T034240Z
UID:10000739-1718647200-1718652600@stfrancisfm.org
SUMMARY:Bible Study
DESCRIPTION:Join us weekly for Bible Study. \nWHEN:  Monday nights \nTIME:  6:00pm-7:30pm \nWHERE:  Ministry Center
URL:https://stfrancisfm.org/event/bible-study/2024-06-17/
LOCATION:Ministry Center\, FL\, United States
END:VEVENT
BEGIN:VEVENT
DTSTART;TZID=UTC:20240611T100000
DTEND;TZID=UTC:20240611T113000
DTSTAMP:20260424T122648
CREATED:20240516T030444Z
LAST-MODIFIED:20240516T030610Z
UID:10000734-1718100000-1718105400@stfrancisfm.org
SUMMARY:Book Club - The Lamb's Supper
DESCRIPTION:Book Club is Tuesdays at 10:00am in the Ministry Center. \nThe book will be The Lamb’s Supper by Scott Hahn. \nThe  Lamb’s Supper will help readers see the Mass with new eyes\, pray the liturgy with a renewed heart\, and enter into the Mass more fully\, more enthusiastically\, more intelligently\, and more powerfully than ever before. \nWe will be discussing this book starting May 21st and will be weekly. Be sure to sign up and reserve a book by calling the Parish Office at 239-334-2161.
URL:https://stfrancisfm.org/event/book-club-the-lambs-supper/2024-06-11/
LOCATION:Ministry Center\, FL\, United States
END:VEVENT
BEGIN:VEVENT
DTSTART;TZID=UTC:20240610T180000
DTEND;TZID=UTC:20240610T193000
DTSTAMP:20260424T122648
CREATED:20240516T031014Z
LAST-MODIFIED:20240516T034240Z
UID:10000738-1718042400-1718047800@stfrancisfm.org
SUMMARY:Bible Study
DESCRIPTION:Join us weekly for Bible Study. \nWHEN:  Monday nights \nTIME:  6:00pm-7:30pm \nWHERE:  Ministry Center
URL:https://stfrancisfm.org/event/bible-study/2024-06-10/
LOCATION:Ministry Center\, FL\, United States
END:VEVENT
BEGIN:VEVENT
DTSTART;TZID=UTC:20240604T100000
DTEND;TZID=UTC:20240604T113000
DTSTAMP:20260424T122648
CREATED:20240516T030444Z
LAST-MODIFIED:20240516T030610Z
UID:10000733-1717495200-1717500600@stfrancisfm.org
SUMMARY:Book Club - The Lamb's Supper
DESCRIPTION:Book Club is Tuesdays at 10:00am in the Ministry Center. \nThe book will be The Lamb’s Supper by Scott Hahn. \nThe  Lamb’s Supper will help readers see the Mass with new eyes\, pray the liturgy with a renewed heart\, and enter into the Mass more fully\, more enthusiastically\, more intelligently\, and more powerfully than ever before. \nWe will be discussing this book starting May 21st and will be weekly. Be sure to sign up and reserve a book by calling the Parish Office at 239-334-2161.
URL:https://stfrancisfm.org/event/book-club-the-lambs-supper/2024-06-04/
LOCATION:Ministry Center\, FL\, United States
END:VEVENT
BEGIN:VEVENT
DTSTART;TZID=UTC:20240603T180000
DTEND;TZID=UTC:20240603T193000
DTSTAMP:20260424T122648
CREATED:20240516T031014Z
LAST-MODIFIED:20240516T034240Z
UID:10000737-1717437600-1717443000@stfrancisfm.org
SUMMARY:Bible Study
DESCRIPTION:Join us weekly for Bible Study. \nWHEN:  Monday nights \nTIME:  6:00pm-7:30pm \nWHERE:  Ministry Center
URL:https://stfrancisfm.org/event/bible-study/2024-06-03/
LOCATION:Ministry Center\, FL\, United States
END:VEVENT
BEGIN:VEVENT
DTSTART;TZID=UTC:20240528T100000
DTEND;TZID=UTC:20240528T113000
DTSTAMP:20260424T122648
CREATED:20240516T030444Z
LAST-MODIFIED:20240516T030610Z
UID:10000732-1716890400-1716895800@stfrancisfm.org
SUMMARY:Book Club - The Lamb's Supper
DESCRIPTION:Book Club is Tuesdays at 10:00am in the Ministry Center. \nThe book will be The Lamb’s Supper by Scott Hahn. \nThe  Lamb’s Supper will help readers see the Mass with new eyes\, pray the liturgy with a renewed heart\, and enter into the Mass more fully\, more enthusiastically\, more intelligently\, and more powerfully than ever before. \nWe will be discussing this book starting May 21st and will be weekly. Be sure to sign up and reserve a book by calling the Parish Office at 239-334-2161.
URL:https://stfrancisfm.org/event/book-club-the-lambs-supper/2024-05-28/
LOCATION:Ministry Center\, FL\, United States
END:VEVENT
BEGIN:VEVENT
DTSTART;TZID=UTC:20240527T180000
DTEND;TZID=UTC:20240527T193000
DTSTAMP:20260424T122648
CREATED:20240516T031014Z
LAST-MODIFIED:20240516T034240Z
UID:10000736-1716832800-1716838200@stfrancisfm.org
SUMMARY:Bible Study
DESCRIPTION:Join us weekly for Bible Study. \nWHEN:  Monday nights \nTIME:  6:00pm-7:30pm \nWHERE:  Ministry Center
URL:https://stfrancisfm.org/event/bible-study/2024-05-27/
LOCATION:Ministry Center\, FL\, United States
END:VEVENT
BEGIN:VEVENT
DTSTART;TZID=UTC:20240521T100000
DTEND;TZID=UTC:20240521T113000
DTSTAMP:20260424T122648
CREATED:20240516T030444Z
LAST-MODIFIED:20240516T030610Z
UID:10000731-1716285600-1716291000@stfrancisfm.org
SUMMARY:Book Club - The Lamb's Supper
DESCRIPTION:Book Club is Tuesdays at 10:00am in the Ministry Center. \nThe book will be The Lamb’s Supper by Scott Hahn. \nThe  Lamb’s Supper will help readers see the Mass with new eyes\, pray the liturgy with a renewed heart\, and enter into the Mass more fully\, more enthusiastically\, more intelligently\, and more powerfully than ever before. \nWe will be discussing this book starting May 21st and will be weekly. Be sure to sign up and reserve a book by calling the Parish Office at 239-334-2161.
URL:https://stfrancisfm.org/event/book-club-the-lambs-supper/2024-05-21/
LOCATION:Ministry Center\, FL\, United States
END:VEVENT
BEGIN:VEVENT
DTSTART;TZID=UTC:20240520T180000
DTEND;TZID=UTC:20240520T193000
DTSTAMP:20260424T122648
CREATED:20240516T031014Z
LAST-MODIFIED:20240516T034240Z
UID:10000735-1716228000-1716233400@stfrancisfm.org
SUMMARY:Bible Study
DESCRIPTION:Join us weekly for Bible Study. \nWHEN:  Monday nights \nTIME:  6:00pm-7:30pm \nWHERE:  Ministry Center
URL:https://stfrancisfm.org/event/bible-study/2024-05-20/
LOCATION:Ministry Center\, FL\, United States
END:VEVENT
BEGIN:VEVENT
DTSTART;TZID=UTC:20240303T093000
DTEND;TZID=UTC:20240303T093000
DTSTAMP:20260424T122648
CREATED:20240215T222502Z
LAST-MODIFIED:20240308T223627Z
UID:10000005-1709458200-1709458200@stfrancisfm.org
SUMMARY:Celebrate with Us! Grand Re-Opening of St. Francis Xavier Ministry Center!
DESCRIPTION:Join us Sunday\, March 3rd after the 9:30 am Mass (until 1:00 pm) \n\nBlessing of the new Center: Witness the official blessing with Father Steve!\nMinistry Fair: Discover ways to get involved in our diverse ministries!\nRefreshments & Building Tour: Enjoy treats & explore the new space!\n\nWhere: Ministry Center (behind Xavier Hall) \nDon’t miss this exciting event!
URL:https://stfrancisfm.org/event/reopening-of-st-francis-xavier-ministry-center/
LOCATION:Ministry Center\, FL\, United States
CATEGORIES:Event
ATTACH;FMTTYPE=image/jpeg:https://stfrancisfm.org/wp-content/uploads/2024/02/grandreopening-min.jpg
END:VEVENT
END:VCALENDAR