BEGIN:VCALENDAR
VERSION:2.0
PRODID:-//St. Francis Xavier Catholic Church - ECPv6.9.0//NONSGML v1.0//EN
CALSCALE:GREGORIAN
METHOD:PUBLISH
X-ORIGINAL-URL:https://stfrancisfm.org
X-WR-CALDESC:Events for St. Francis Xavier Catholic Church
REFRESH-INTERVAL;VALUE=DURATION:PT1H
X-Robots-Tag:noindex
X-PUBLISHED-TTL:PT1H
BEGIN:VTIMEZONE
TZID:UTC
BEGIN:STANDARD
TZOFFSETFROM:+0000
TZOFFSETTO:+0000
TZNAME:UTC
DTSTART:20240101T000000
END:STANDARD
END:VTIMEZONE
BEGIN:VEVENT
DTSTART;TZID=UTC:20241003T180000
DTEND;TZID=UTC:20241003T193000
DTSTAMP:20260420T114525
CREATED:20240904T203958Z
LAST-MODIFIED:20240904T204016Z
UID:10000982-1727978400-1727983800@stfrancisfm.org
SUMMARY:O.C.I.A.
DESCRIPTION:Order of Christian Initiation for Adults \nWHEN:  Thursdays \nTIME:  6:00 – 7:30pm \nWHERE:  St. Francis Xavier Ministry Center \n  \nClasses are for: \n\n Those who have never been baptized\nThose who were baptized another denomination\nCatholic adults who have never received their First Holy Communion and/or Confirmation\n\n  \nCall the parish office to register for classes. \n  \n  \n  \n  \n 
URL:https://stfrancisfm.org/event/o-c-i-a/2024-10-03/
LOCATION:FL
END:VEVENT
BEGIN:VEVENT
DTSTART;TZID=UTC:20241004T120000
DTEND;TZID=UTC:20241004T130000
DTSTAMP:20260420T114525
CREATED:20240516T031805Z
LAST-MODIFIED:20240516T031816Z
UID:10000809-1728043200-1728046800@stfrancisfm.org
SUMMARY:Adoration
DESCRIPTION:Adoration Holy Hour \nWHEN:  Fridays \nTIME:  12:00pm-1:00pm \nWHERE:  St. Francis Xavier Church
URL:https://stfrancisfm.org/event/adoration/2024-10-04/
LOCATION:St. Francis Xavier Church\, 2057 Cleveland Ave\, Fort Myers\, FL\, 33901\, United States
END:VEVENT
BEGIN:VEVENT
DTSTART;TZID=UTC:20241006T100000
DTEND;TZID=UTC:20241006T113000
DTSTAMP:20260420T114525
CREATED:20240830T014759Z
LAST-MODIFIED:20240830T182511Z
UID:10000920-1728208800-1728214200@stfrancisfm.org
SUMMARY:Faith Formation - Religious Education - Middle School Youth Group
DESCRIPTION:Faith Formation / Religious Education / Middle School Youth Group \nClasses for all public and home schooled students in grader K-10 \n  \nTIME:  10:00am – 11:15am \nWHERE:  St. Francis Xavier Parish Hall
URL:https://stfrancisfm.org/event/faith-formation-religious-education-middle-school-youth-group/2024-10-06/
LOCATION:Xavier Parish Hall\, 2050 Heitman Street\, Fort Myers\, 33901\, United States
END:VEVENT
BEGIN:VEVENT
DTSTART;TZID=UTC:20241007T180000
DTEND;TZID=UTC:20241007T193000
DTSTAMP:20260420T114525
CREATED:20240516T031014Z
LAST-MODIFIED:20240516T034240Z
UID:10000755-1728324000-1728329400@stfrancisfm.org
SUMMARY:Bible Study
DESCRIPTION:Join us weekly for Bible Study. \nWHEN:  Monday nights \nTIME:  6:00pm-7:30pm \nWHERE:  Ministry Center
URL:https://stfrancisfm.org/event/bible-study/2024-10-07/
LOCATION:Ministry Center\, FL\, United States
END:VEVENT
BEGIN:VEVENT
DTSTART;TZID=UTC:20241010T180000
DTEND;TZID=UTC:20241010T193000
DTSTAMP:20260420T114525
CREATED:20240904T203958Z
LAST-MODIFIED:20240904T204016Z
UID:10000983-1728583200-1728588600@stfrancisfm.org
SUMMARY:O.C.I.A.
DESCRIPTION:Order of Christian Initiation for Adults \nWHEN:  Thursdays \nTIME:  6:00 – 7:30pm \nWHERE:  St. Francis Xavier Ministry Center \n  \nClasses are for: \n\n Those who have never been baptized\nThose who were baptized another denomination\nCatholic adults who have never received their First Holy Communion and/or Confirmation\n\n  \nCall the parish office to register for classes. \n  \n  \n  \n  \n 
URL:https://stfrancisfm.org/event/o-c-i-a/2024-10-10/
LOCATION:FL
END:VEVENT
BEGIN:VEVENT
DTSTART;TZID=UTC:20241011T120000
DTEND;TZID=UTC:20241011T130000
DTSTAMP:20260420T114525
CREATED:20240516T031805Z
LAST-MODIFIED:20240516T031816Z
UID:10000810-1728648000-1728651600@stfrancisfm.org
SUMMARY:Adoration
DESCRIPTION:Adoration Holy Hour \nWHEN:  Fridays \nTIME:  12:00pm-1:00pm \nWHERE:  St. Francis Xavier Church
URL:https://stfrancisfm.org/event/adoration/2024-10-11/
LOCATION:St. Francis Xavier Church\, 2057 Cleveland Ave\, Fort Myers\, FL\, 33901\, United States
END:VEVENT
BEGIN:VEVENT
DTSTART;TZID=UTC:20241014T180000
DTEND;TZID=UTC:20241014T193000
DTSTAMP:20260420T114525
CREATED:20240516T031014Z
LAST-MODIFIED:20240516T034240Z
UID:10000756-1728928800-1728934200@stfrancisfm.org
SUMMARY:Bible Study
DESCRIPTION:Join us weekly for Bible Study. \nWHEN:  Monday nights \nTIME:  6:00pm-7:30pm \nWHERE:  Ministry Center
URL:https://stfrancisfm.org/event/bible-study/2024-10-14/
LOCATION:Ministry Center\, FL\, United States
END:VEVENT
BEGIN:VEVENT
DTSTART;TZID=UTC:20241017T180000
DTEND;TZID=UTC:20241017T193000
DTSTAMP:20260420T114525
CREATED:20240904T203958Z
LAST-MODIFIED:20240904T204016Z
UID:10000984-1729188000-1729193400@stfrancisfm.org
SUMMARY:O.C.I.A.
DESCRIPTION:Order of Christian Initiation for Adults \nWHEN:  Thursdays \nTIME:  6:00 – 7:30pm \nWHERE:  St. Francis Xavier Ministry Center \n  \nClasses are for: \n\n Those who have never been baptized\nThose who were baptized another denomination\nCatholic adults who have never received their First Holy Communion and/or Confirmation\n\n  \nCall the parish office to register for classes. \n  \n  \n  \n  \n 
URL:https://stfrancisfm.org/event/o-c-i-a/2024-10-17/
LOCATION:FL
END:VEVENT
BEGIN:VEVENT
DTSTART;TZID=UTC:20241018T120000
DTEND;TZID=UTC:20241018T130000
DTSTAMP:20260420T114525
CREATED:20240516T031805Z
LAST-MODIFIED:20240516T031816Z
UID:10000811-1729252800-1729256400@stfrancisfm.org
SUMMARY:Adoration
DESCRIPTION:Adoration Holy Hour \nWHEN:  Fridays \nTIME:  12:00pm-1:00pm \nWHERE:  St. Francis Xavier Church
URL:https://stfrancisfm.org/event/adoration/2024-10-18/
LOCATION:St. Francis Xavier Church\, 2057 Cleveland Ave\, Fort Myers\, FL\, 33901\, United States
END:VEVENT
BEGIN:VEVENT
DTSTART;TZID=UTC:20241020T090000
DTEND;TZID=UTC:20241020T233000
DTSTAMP:20260420T114525
CREATED:20240830T190650Z
LAST-MODIFIED:20240830T191026Z
UID:10000974-1729414800-1729467000@stfrancisfm.org
SUMMARY:Sacramental Preparation (students preparing for First Communion and Confirmation)
DESCRIPTION:Classes are for all students in public schools (currently enrolled in their second consecutive year in the Faith Formation Program) as well as those in St. Francis Xavier (grade 2) and Bishop Verot (grade 10) preparing for the Sacraments of First Communion and Confirmation. \nA parent or guardian needs to be present for the classes. \n  \nWHEN:  9:00am – 11:15am \nWHERE:  St. Francis Xavier Parish Hall \n 
URL:https://stfrancisfm.org/event/sacramental-preparation-students-preparing-for-first-communion-and-confirmation/2024-10-20/
LOCATION:FL
END:VEVENT
BEGIN:VEVENT
DTSTART;TZID=UTC:20241020T100000
DTEND;TZID=UTC:20241020T113000
DTSTAMP:20260420T114525
CREATED:20240830T014759Z
LAST-MODIFIED:20240830T182511Z
UID:10000923-1729418400-1729423800@stfrancisfm.org
SUMMARY:Faith Formation - Religious Education - Middle School Youth Group
DESCRIPTION:Faith Formation / Religious Education / Middle School Youth Group \nClasses for all public and home schooled students in grader K-10 \n  \nTIME:  10:00am – 11:15am \nWHERE:  St. Francis Xavier Parish Hall
URL:https://stfrancisfm.org/event/faith-formation-religious-education-middle-school-youth-group/2024-10-20/
LOCATION:Xavier Parish Hall\, 2050 Heitman Street\, Fort Myers\, 33901\, United States
END:VEVENT
BEGIN:VEVENT
DTSTART;TZID=UTC:20241021T180000
DTEND;TZID=UTC:20241021T193000
DTSTAMP:20260420T114525
CREATED:20240516T031014Z
LAST-MODIFIED:20240516T034240Z
UID:10000757-1729533600-1729539000@stfrancisfm.org
SUMMARY:Bible Study
DESCRIPTION:Join us weekly for Bible Study. \nWHEN:  Monday nights \nTIME:  6:00pm-7:30pm \nWHERE:  Ministry Center
URL:https://stfrancisfm.org/event/bible-study/2024-10-21/
LOCATION:Ministry Center\, FL\, United States
END:VEVENT
BEGIN:VEVENT
DTSTART;TZID=UTC:20241024T180000
DTEND;TZID=UTC:20241024T193000
DTSTAMP:20260420T114525
CREATED:20240904T203958Z
LAST-MODIFIED:20240904T204016Z
UID:10000985-1729792800-1729798200@stfrancisfm.org
SUMMARY:O.C.I.A.
DESCRIPTION:Order of Christian Initiation for Adults \nWHEN:  Thursdays \nTIME:  6:00 – 7:30pm \nWHERE:  St. Francis Xavier Ministry Center \n  \nClasses are for: \n\n Those who have never been baptized\nThose who were baptized another denomination\nCatholic adults who have never received their First Holy Communion and/or Confirmation\n\n  \nCall the parish office to register for classes. \n  \n  \n  \n  \n 
URL:https://stfrancisfm.org/event/o-c-i-a/2024-10-24/
LOCATION:FL
END:VEVENT
BEGIN:VEVENT
DTSTART;TZID=UTC:20241025T120000
DTEND;TZID=UTC:20241025T130000
DTSTAMP:20260420T114525
CREATED:20240516T031805Z
LAST-MODIFIED:20240516T031816Z
UID:10000812-1729857600-1729861200@stfrancisfm.org
SUMMARY:Adoration
DESCRIPTION:Adoration Holy Hour \nWHEN:  Fridays \nTIME:  12:00pm-1:00pm \nWHERE:  St. Francis Xavier Church
URL:https://stfrancisfm.org/event/adoration/2024-10-25/
LOCATION:St. Francis Xavier Church\, 2057 Cleveland Ave\, Fort Myers\, FL\, 33901\, United States
END:VEVENT
BEGIN:VEVENT
DTSTART;TZID=UTC:20241027T100000
DTEND;TZID=UTC:20241027T113000
DTSTAMP:20260420T114525
CREATED:20240830T014759Z
LAST-MODIFIED:20240830T182511Z
UID:10000925-1730023200-1730028600@stfrancisfm.org
SUMMARY:Faith Formation - Religious Education - Middle School Youth Group
DESCRIPTION:Faith Formation / Religious Education / Middle School Youth Group \nClasses for all public and home schooled students in grader K-10 \n  \nTIME:  10:00am – 11:15am \nWHERE:  St. Francis Xavier Parish Hall
URL:https://stfrancisfm.org/event/faith-formation-religious-education-middle-school-youth-group/2024-10-27/
LOCATION:Xavier Parish Hall\, 2050 Heitman Street\, Fort Myers\, 33901\, United States
END:VEVENT
BEGIN:VEVENT
DTSTART;TZID=UTC:20241028T180000
DTEND;TZID=UTC:20241028T193000
DTSTAMP:20260420T114525
CREATED:20240516T031014Z
LAST-MODIFIED:20240516T034240Z
UID:10000758-1730138400-1730143800@stfrancisfm.org
SUMMARY:Bible Study
DESCRIPTION:Join us weekly for Bible Study. \nWHEN:  Monday nights \nTIME:  6:00pm-7:30pm \nWHERE:  Ministry Center
URL:https://stfrancisfm.org/event/bible-study/2024-10-28/
LOCATION:Ministry Center\, FL\, United States
END:VEVENT
END:VCALENDAR