BEGIN:VCALENDAR
VERSION:2.0
PRODID:-//St. Francis Xavier Catholic Church - ECPv6.9.0//NONSGML v1.0//EN
CALSCALE:GREGORIAN
METHOD:PUBLISH
X-ORIGINAL-URL:https://stfrancisfm.org
X-WR-CALDESC:Events for St. Francis Xavier Catholic Church
REFRESH-INTERVAL;VALUE=DURATION:PT1H
X-Robots-Tag:noindex
X-PUBLISHED-TTL:PT1H
BEGIN:VTIMEZONE
TZID:UTC
BEGIN:STANDARD
TZOFFSETFROM:+0000
TZOFFSETTO:+0000
TZNAME:UTC
DTSTART:20240101T000000
END:STANDARD
END:VTIMEZONE
BEGIN:VEVENT
DTSTART;TZID=UTC:20240802T120000
DTEND;TZID=UTC:20240802T130000
DTSTAMP:20260423T071100
CREATED:20240516T031805Z
LAST-MODIFIED:20240516T031816Z
UID:10000800-1722600000-1722603600@stfrancisfm.org
SUMMARY:Adoration
DESCRIPTION:Adoration Holy Hour \nWHEN:  Fridays \nTIME:  12:00pm-1:00pm \nWHERE:  St. Francis Xavier Church
URL:https://stfrancisfm.org/event/adoration/2024-08-02/
LOCATION:St. Francis Xavier Church\, 2057 Cleveland Ave\, Fort Myers\, FL\, 33901\, United States
END:VEVENT
BEGIN:VEVENT
DTSTART;TZID=UTC:20240805T180000
DTEND;TZID=UTC:20240805T193000
DTSTAMP:20260423T071100
CREATED:20240516T031014Z
LAST-MODIFIED:20240516T034240Z
UID:10000746-1722880800-1722886200@stfrancisfm.org
SUMMARY:Bible Study
DESCRIPTION:Join us weekly for Bible Study. \nWHEN:  Monday nights \nTIME:  6:00pm-7:30pm \nWHERE:  Ministry Center
URL:https://stfrancisfm.org/event/bible-study/2024-08-05/
LOCATION:Ministry Center\, FL\, United States
END:VEVENT
BEGIN:VEVENT
DTSTART;TZID=UTC:20240809T120000
DTEND;TZID=UTC:20240809T130000
DTSTAMP:20260423T071100
CREATED:20240516T031805Z
LAST-MODIFIED:20240516T031816Z
UID:10000801-1723204800-1723208400@stfrancisfm.org
SUMMARY:Adoration
DESCRIPTION:Adoration Holy Hour \nWHEN:  Fridays \nTIME:  12:00pm-1:00pm \nWHERE:  St. Francis Xavier Church
URL:https://stfrancisfm.org/event/adoration/2024-08-09/
LOCATION:St. Francis Xavier Church\, 2057 Cleveland Ave\, Fort Myers\, FL\, 33901\, United States
END:VEVENT
BEGIN:VEVENT
DTSTART;TZID=UTC:20240812T180000
DTEND;TZID=UTC:20240812T193000
DTSTAMP:20260423T071100
CREATED:20240516T031014Z
LAST-MODIFIED:20240516T034240Z
UID:10000747-1723485600-1723491000@stfrancisfm.org
SUMMARY:Bible Study
DESCRIPTION:Join us weekly for Bible Study. \nWHEN:  Monday nights \nTIME:  6:00pm-7:30pm \nWHERE:  Ministry Center
URL:https://stfrancisfm.org/event/bible-study/2024-08-12/
LOCATION:Ministry Center\, FL\, United States
END:VEVENT
BEGIN:VEVENT
DTSTART;TZID=UTC:20240816T120000
DTEND;TZID=UTC:20240816T130000
DTSTAMP:20260423T071100
CREATED:20240516T031805Z
LAST-MODIFIED:20240516T031816Z
UID:10000802-1723809600-1723813200@stfrancisfm.org
SUMMARY:Adoration
DESCRIPTION:Adoration Holy Hour \nWHEN:  Fridays \nTIME:  12:00pm-1:00pm \nWHERE:  St. Francis Xavier Church
URL:https://stfrancisfm.org/event/adoration/2024-08-16/
LOCATION:St. Francis Xavier Church\, 2057 Cleveland Ave\, Fort Myers\, FL\, 33901\, United States
END:VEVENT
BEGIN:VEVENT
DTSTART;TZID=UTC:20240819T180000
DTEND;TZID=UTC:20240819T193000
DTSTAMP:20260423T071100
CREATED:20240516T031014Z
LAST-MODIFIED:20240516T034240Z
UID:10000748-1724090400-1724095800@stfrancisfm.org
SUMMARY:Bible Study
DESCRIPTION:Join us weekly for Bible Study. \nWHEN:  Monday nights \nTIME:  6:00pm-7:30pm \nWHERE:  Ministry Center
URL:https://stfrancisfm.org/event/bible-study/2024-08-19/
LOCATION:Ministry Center\, FL\, United States
END:VEVENT
BEGIN:VEVENT
DTSTART;TZID=UTC:20240823T120000
DTEND;TZID=UTC:20240823T130000
DTSTAMP:20260423T071100
CREATED:20240516T031805Z
LAST-MODIFIED:20240516T031816Z
UID:10000803-1724414400-1724418000@stfrancisfm.org
SUMMARY:Adoration
DESCRIPTION:Adoration Holy Hour \nWHEN:  Fridays \nTIME:  12:00pm-1:00pm \nWHERE:  St. Francis Xavier Church
URL:https://stfrancisfm.org/event/adoration/2024-08-23/
LOCATION:St. Francis Xavier Church\, 2057 Cleveland Ave\, Fort Myers\, FL\, 33901\, United States
END:VEVENT
BEGIN:VEVENT
DTSTART;TZID=UTC:20240826T180000
DTEND;TZID=UTC:20240826T193000
DTSTAMP:20260423T071100
CREATED:20240516T031014Z
LAST-MODIFIED:20240516T034240Z
UID:10000749-1724695200-1724700600@stfrancisfm.org
SUMMARY:Bible Study
DESCRIPTION:Join us weekly for Bible Study. \nWHEN:  Monday nights \nTIME:  6:00pm-7:30pm \nWHERE:  Ministry Center
URL:https://stfrancisfm.org/event/bible-study/2024-08-26/
LOCATION:Ministry Center\, FL\, United States
END:VEVENT
BEGIN:VEVENT
DTSTART;TZID=UTC:20240830T120000
DTEND;TZID=UTC:20240830T130000
DTSTAMP:20260423T071100
CREATED:20240516T031805Z
LAST-MODIFIED:20240516T031816Z
UID:10000804-1725019200-1725022800@stfrancisfm.org
SUMMARY:Adoration
DESCRIPTION:Adoration Holy Hour \nWHEN:  Fridays \nTIME:  12:00pm-1:00pm \nWHERE:  St. Francis Xavier Church
URL:https://stfrancisfm.org/event/adoration/2024-08-30/
LOCATION:St. Francis Xavier Church\, 2057 Cleveland Ave\, Fort Myers\, FL\, 33901\, United States
END:VEVENT
BEGIN:VEVENT
DTSTART;TZID=UTC:20240831T160000
DTEND;TZID=UTC:20240831T173000
DTSTAMP:20260423T071100
CREATED:20240830T012905Z
LAST-MODIFIED:20240830T183149Z
UID:10000858-1725120000-1725125400@stfrancisfm.org
SUMMARY:Registration Weekend - Faith Formation
DESCRIPTION:WHAT:  Faith Formation\, Sacrament Prep\, Youth Group\, and OCIA Registration Weekend \nWHEN:  After All Masses August 31st and September 1st \nWHERE:  In the Narthex of the Church \n  \nIf you have children in grades K-12\, they should be enrolled in one of our programs for the religious education. \nPublic and Home School:  Register for the weekly Sunday classes for Grades K-4\, weekly Middle School Youth Group (Grades 5-8)\, and High School Youth Group (Grades 9-12) \nCatholic School Families:  Register your child if they are in second grade for 1st Communion Prep and for Bishop Verot Students for Confirmation Prep and Youth Group. \nAdults:  If you are not Catholic (were never baptized or baptized any Christian denomination) and would like to become Catholic\, or you were baptized Catholic but still need First Communion and/or Confirmation\, please register for the OCIA (Order of Christian Initiation for Adults) Program. \n 
URL:https://stfrancisfm.org/event/registration-weekend-faith-formation/2024-08-31/
LOCATION:St. Francis Xavier Church\, 2057 Cleveland Ave\, Fort Myers\, FL\, 33901\, United States
END:VEVENT
END:VCALENDAR