BEGIN:VCALENDAR
VERSION:2.0
PRODID:-//St. Francis Xavier Catholic Church - ECPv6.9.0//NONSGML v1.0//EN
CALSCALE:GREGORIAN
METHOD:PUBLISH
X-WR-CALNAME:St. Francis Xavier Catholic Church
X-ORIGINAL-URL:https://stfrancisfm.org
X-WR-CALDESC:Events for St. Francis Xavier Catholic Church
REFRESH-INTERVAL;VALUE=DURATION:PT1H
X-Robots-Tag:noindex
X-PUBLISHED-TTL:PT1H
BEGIN:VTIMEZONE
TZID:UTC
BEGIN:STANDARD
TZOFFSETFROM:+0000
TZOFFSETTO:+0000
TZNAME:UTC
DTSTART:20240101T000000
END:STANDARD
END:VTIMEZONE
BEGIN:VEVENT
DTSTART;TZID=UTC:20240409T100000
DTEND;TZID=UTC:20240409T110000
DTSTAMP:20260422T200818
CREATED:20240327T231321Z
LAST-MODIFIED:20240405T192252Z
UID:10000284-1712656800-1712660400@stfrancisfm.org
SUMMARY:Book Club - Holy Moments
DESCRIPTION:Book Club meets Tuesdays at 10:00am. \nThe book we will be reading and discussing Matthew Kelly’s book Holy Moments.  Discover how many seemingly small and insignificant moments in our life can change our lives and how we can make that change a positive one! \nHoly Moments will be the topic of the book study through Tuesday\, April 16th. \n  \nThe next book will be Rocking Chair Prophet.  Keep an eye on upcoming events for more information on Rocking Chair Prophet.
URL:https://stfrancisfm.org/event/book-club/2024-04-09/
LOCATION:FL
CATEGORIES:Event
ATTACH;FMTTYPE=image/png:https://stfrancisfm.org/wp-content/uploads/2024/03/Book-Club-Holy-Moments-Events.png
END:VEVENT
BEGIN:VEVENT
DTSTART;TZID=UTC:20240416T100000
DTEND;TZID=UTC:20240416T113000
DTSTAMP:20260422T200818
CREATED:20240405T190820Z
LAST-MODIFIED:20240405T191132Z
UID:10000286-1713261600-1713267000@stfrancisfm.org
SUMMARY:Book Club - The Rocking Chair Prophet
DESCRIPTION:Book Club is Tuesdays at 10:00am in the Ministry Center. \nThe book will be The Rocking Chair Prophet by Matthew Kelly. \nThe Rocking Chair Prophet is a rich explo­ration of life and the human condition. It’s an invitation to rediscover yourself and reorient your life. Matthew Kelly has masterfully wo­ven into the story a piercing wisdom that is thought-provoking on a life-changing scale. It is stunning that one book can have some­thing so meaningful to say on so many topics. This is destined to be a book readers return to time and again\, a book that speaks to us anew in every season of life. \nWe will be discussing this book starting April 16th and will be weekly through April 30th. Be sure to sign up and reserve a book by calling the Parish Office at 239-334-2161.  A small donation is appreciated to cover the cost of the book.
URL:https://stfrancisfm.org/event/book-club-the-rocking-chair-prophet/2024-04-16/
LOCATION:FL
ATTACH;FMTTYPE=image/png:https://stfrancisfm.org/wp-content/uploads/2024/04/Rocking-Chair-Prophet-Book-Pic.png
END:VEVENT
BEGIN:VEVENT
DTSTART;TZID=UTC:20240423T100000
DTEND;TZID=UTC:20240423T113000
DTSTAMP:20260422T200818
CREATED:20240405T190820Z
LAST-MODIFIED:20240405T191132Z
UID:10000287-1713866400-1713871800@stfrancisfm.org
SUMMARY:Book Club - The Rocking Chair Prophet
DESCRIPTION:Book Club is Tuesdays at 10:00am in the Ministry Center. \nThe book will be The Rocking Chair Prophet by Matthew Kelly. \nThe Rocking Chair Prophet is a rich explo­ration of life and the human condition. It’s an invitation to rediscover yourself and reorient your life. Matthew Kelly has masterfully wo­ven into the story a piercing wisdom that is thought-provoking on a life-changing scale. It is stunning that one book can have some­thing so meaningful to say on so many topics. This is destined to be a book readers return to time and again\, a book that speaks to us anew in every season of life. \nWe will be discussing this book starting April 16th and will be weekly through April 30th. Be sure to sign up and reserve a book by calling the Parish Office at 239-334-2161.  A small donation is appreciated to cover the cost of the book.
URL:https://stfrancisfm.org/event/book-club-the-rocking-chair-prophet/2024-04-23/
LOCATION:FL
ATTACH;FMTTYPE=image/png:https://stfrancisfm.org/wp-content/uploads/2024/04/Rocking-Chair-Prophet-Book-Pic.png
END:VEVENT
BEGIN:VEVENT
DTSTART;TZID=UTC:20240430T100000
DTEND;TZID=UTC:20240430T113000
DTSTAMP:20260422T200818
CREATED:20240405T190820Z
LAST-MODIFIED:20240405T191132Z
UID:10000288-1714471200-1714476600@stfrancisfm.org
SUMMARY:Book Club - The Rocking Chair Prophet
DESCRIPTION:Book Club is Tuesdays at 10:00am in the Ministry Center. \nThe book will be The Rocking Chair Prophet by Matthew Kelly. \nThe Rocking Chair Prophet is a rich explo­ration of life and the human condition. It’s an invitation to rediscover yourself and reorient your life. Matthew Kelly has masterfully wo­ven into the story a piercing wisdom that is thought-provoking on a life-changing scale. It is stunning that one book can have some­thing so meaningful to say on so many topics. This is destined to be a book readers return to time and again\, a book that speaks to us anew in every season of life. \nWe will be discussing this book starting April 16th and will be weekly through April 30th. Be sure to sign up and reserve a book by calling the Parish Office at 239-334-2161.  A small donation is appreciated to cover the cost of the book.
URL:https://stfrancisfm.org/event/book-club-the-rocking-chair-prophet/2024-04-30/
LOCATION:FL
ATTACH;FMTTYPE=image/png:https://stfrancisfm.org/wp-content/uploads/2024/04/Rocking-Chair-Prophet-Book-Pic.png
END:VEVENT
END:VCALENDAR