BEGIN:VCALENDAR
VERSION:2.0
PRODID:-//St. Francis Xavier Catholic Church - ECPv6.9.0//NONSGML v1.0//EN
CALSCALE:GREGORIAN
METHOD:PUBLISH
X-WR-CALNAME:St. Francis Xavier Catholic Church
X-ORIGINAL-URL:https://stfrancisfm.org
X-WR-CALDESC:Events for St. Francis Xavier Catholic Church
REFRESH-INTERVAL;VALUE=DURATION:PT1H
X-Robots-Tag:noindex
X-PUBLISHED-TTL:PT1H
BEGIN:VTIMEZONE
TZID:UTC
BEGIN:STANDARD
TZOFFSETFROM:+0000
TZOFFSETTO:+0000
TZNAME:UTC
DTSTART:20260101T000000
END:STANDARD
END:VTIMEZONE
BEGIN:VEVENT
DTSTART;TZID=UTC:20260419T090000
DTEND;TZID=UTC:20260419T123000
DTSTAMP:20260425T140235
CREATED:20250814T212408Z
LAST-MODIFIED:20250814T213531Z
UID:10001446-1776589200-1776601800@stfrancisfm.org
SUMMARY:Sacramental Prep Classes for First Communion and Confirmation
DESCRIPTION:Sacramental Prep Classes. \nThese classes are for those students (and a parent must also attend) who will be receiving their First Confession and First Communion\, or Confirmation for the 2025/26 school year.  Sacramental Prep Classes are on these dates:  October 5\, November 2\, December 7\, 2025; January 11\, February 1\, March 8\, and April 19\, 2026. \nTHIS IS FOR 3 SPECIFIC GROPS OF STUDENTS LISTED BELOW: \n\n St. Francis Xavier School students in the 2nd grade (or from grades 3-8 who have not yet received their First Communion)\nBishop Verot Students in the 9th AND 10th grades\nAll public school/home schooled students in Communion 2 Class at the Faith Formation weekly class.\n\nYou must already be registered to attend these classes and you must complete 2 consecutive years in order to receive one of these sacraments.
URL:https://stfrancisfm.org/event/sacramental-prep-classes-for-first-communion-and-confirmation/2026-04-19/
LOCATION:FL
END:VEVENT
BEGIN:VEVENT
DTSTART;TZID=UTC:20260419T100000
DTEND;TZID=UTC:20260419T123000
DTSTAMP:20260425T140235
CREATED:20250814T200617Z
LAST-MODIFIED:20250814T210736Z
UID:10001408-1776592800-1776601800@stfrancisfm.org
SUMMARY:Faith Formation Grades K-4
DESCRIPTION:Religious Education for grades K – 4. \n  \n  \n 
URL:https://stfrancisfm.org/event/faith-formation-grades-k-4/2026-04-19/
LOCATION:Xavier Parish Hall\, 2050 Heitman Street\, Fort Myers\, 33901\, United States
END:VEVENT
BEGIN:VEVENT
DTSTART;TZID=UTC:20260419T100000
DTEND;TZID=UTC:20260419T123000
DTSTAMP:20260425T140235
CREATED:20250814T210145Z
LAST-MODIFIED:20250814T210608Z
UID:10001435-1776592800-1776601800@stfrancisfm.org
SUMMARY:Middle School Youth Group Grades 5-8
DESCRIPTION:Middle School Youth Group is our Religious Education Program for grades 5 – 8. \n  \n  \n 
URL:https://stfrancisfm.org/event/middle-school-youth-group-grades-5-8/2026-04-19/
LOCATION:Ministry Center\, FL\, United States
END:VEVENT
END:VCALENDAR