BEGIN:VCALENDAR
VERSION:2.0
PRODID:-//St. Francis Xavier Catholic Church - ECPv6.9.0//NONSGML v1.0//EN
CALSCALE:GREGORIAN
METHOD:PUBLISH
X-WR-CALNAME:St. Francis Xavier Catholic Church
X-ORIGINAL-URL:https://stfrancisfm.org
X-WR-CALDESC:Events for St. Francis Xavier Catholic Church
REFRESH-INTERVAL;VALUE=DURATION:PT1H
X-Robots-Tag:noindex
X-PUBLISHED-TTL:PT1H
BEGIN:VTIMEZONE
TZID:UTC
BEGIN:STANDARD
TZOFFSETFROM:+0000
TZOFFSETTO:+0000
TZNAME:UTC
DTSTART:20240101T000000
END:STANDARD
END:VTIMEZONE
BEGIN:VEVENT
DTSTART;TZID=UTC:20240518T150000
DTEND;TZID=UTC:20240518T190000
DTSTAMP:20260422T125254
CREATED:20240516T021553Z
LAST-MODIFIED:20240516T021724Z
UID:10000345-1716044400-1716058800@stfrancisfm.org
SUMMARY:Barbeque - Sponsored by Knights of Columbus
DESCRIPTION:BBQ pork\, chicken and some great sides. \nDrink and dessert included. \nDATE:  Saturday\, May 18th \nTIME: 4pm-7pm \nWHERE:  Xavier Hall \nCOST:  $15 per person\, $7 for children under 12\, under 5 eat free
URL:https://stfrancisfm.org/event/barbeque-sponsored-by-knights-of-columbus/
LOCATION:Xavier Parish Hall\, 2050 Heitman Street\, Fort Myers\, 33901\, United States
END:VEVENT
END:VCALENDAR