BEGIN:VCALENDAR
VERSION:2.0
PRODID:-//St. Francis Xavier Catholic Church - ECPv6.9.0//NONSGML v1.0//EN
CALSCALE:GREGORIAN
METHOD:PUBLISH
X-ORIGINAL-URL:https://stfrancisfm.org
X-WR-CALDESC:Events for St. Francis Xavier Catholic Church
REFRESH-INTERVAL;VALUE=DURATION:PT1H
X-Robots-Tag:noindex
X-PUBLISHED-TTL:PT1H
BEGIN:VTIMEZONE
TZID:UTC
BEGIN:STANDARD
TZOFFSETFROM:+0000
TZOFFSETTO:+0000
TZNAME:UTC
DTSTART:20240101T000000
END:STANDARD
END:VTIMEZONE
BEGIN:VEVENT
DTSTART;TZID=UTC:20240517T110000
DTEND;TZID=UTC:20240517T150000
DTSTAMP:20260422T171350
CREATED:20240516T022456Z
LAST-MODIFIED:20240516T022502Z
UID:10000346-1715943600-1715958000@stfrancisfm.org
SUMMARY:Altar Server SunSplash Appreciation Day
DESCRIPTION:St. Francis Xavier Parish Altar Servers will get to miss a day at school and spend the day at SunSplash! \nWHEN:  Friday\, May 17 \nWHERE:  Sunsplash \nTIME:  11:00am – 3:00pm \n  \nYou will need to provide transportation to and from the event.  Lunch will be provided. \nWant to become an Altar Server?  Contact the Parish Office at 239-334-2161.
URL:https://stfrancisfm.org/event/altar-server-sunsplash-appreciation-day/
LOCATION:SunSplash Family Waterpark\, 500 W. Kennedy Dr\, Cape Coral\, FL\, 33991
END:VEVENT
BEGIN:VEVENT
DTSTART;TZID=UTC:20240517T120000
DTEND;TZID=UTC:20240517T130000
DTSTAMP:20260422T171350
CREATED:20240516T031805Z
LAST-MODIFIED:20240516T031816Z
UID:10000789-1715947200-1715950800@stfrancisfm.org
SUMMARY:Adoration
DESCRIPTION:Adoration Holy Hour \nWHEN:  Fridays \nTIME:  12:00pm-1:00pm \nWHERE:  St. Francis Xavier Church
URL:https://stfrancisfm.org/event/adoration/2024-05-17/
LOCATION:St. Francis Xavier Church\, 2057 Cleveland Ave\, Fort Myers\, FL\, 33901\, United States
END:VEVENT
END:VCALENDAR