BEGIN:VCALENDAR
VERSION:2.0
PRODID:-//St. Francis Xavier Catholic Church - ECPv6.9.0//NONSGML v1.0//EN
CALSCALE:GREGORIAN
METHOD:PUBLISH
X-WR-CALNAME:St. Francis Xavier Catholic Church
X-ORIGINAL-URL:https://stfrancisfm.org
X-WR-CALDESC:Events for St. Francis Xavier Catholic Church
REFRESH-INTERVAL;VALUE=DURATION:PT1H
X-Robots-Tag:noindex
X-PUBLISHED-TTL:PT1H
BEGIN:VTIMEZONE
TZID:UTC
BEGIN:STANDARD
TZOFFSETFROM:+0000
TZOFFSETTO:+0000
TZNAME:UTC
DTSTART:20240101T000000
END:STANDARD
END:VTIMEZONE
BEGIN:VEVENT
DTSTART;VALUE=DATE:20240331
DTEND;VALUE=DATE:20240401
DTSTAMP:20260424T151120
CREATED:20240327T224808Z
LAST-MODIFIED:20240327T225430Z
UID:10000279-1711843200-1711929599@stfrancisfm.org
SUMMARY:Easter Sunday Masses
DESCRIPTION:Join us for Easter Mass. \nEaster Vigil Mass Time (Saturday March 30th): \n8:30pm \n  \nEaster Sunday Mass times (Sunday\, March 31st): \n7:30am \n9:30am \n11:30am \n2:00pm (Polish)\, \n4:00pm (Creole)
URL:https://stfrancisfm.org/event/easter-sunday-masses/
LOCATION:St. Francis Xavier Church\, 2057 Cleveland Ave\, Fort Myers\, FL\, 33901\, United States
CATEGORIES:Event
ATTACH;FMTTYPE=image/png:https://stfrancisfm.org/wp-content/uploads/2024/03/Easter-Sunday-Image-Events.png
END:VEVENT
BEGIN:VEVENT
DTSTART;TZID=UTC:20240331T103000
DTEND;TZID=UTC:20240331T110000
DTSTAMP:20260424T151120
CREATED:20240327T225849Z
LAST-MODIFIED:20240327T230052Z
UID:10000280-1711881000-1711882800@stfrancisfm.org
SUMMARY:Easter Egg Hunt
DESCRIPTION:Easter Egg Hunt for all the “little ones”. \nWhat:  Easter Egg Hunt \nWhen:  Easter Sunday Morning after the 9:30am Mass \nWhere:  St. Francis Xavier School Soccer Field (right behind the church) \n  \nBring you children\, grandchildren\, and their friends to the Annual St. Francis Xavier  Easter Egg Hunt.  Be sure to bring baskets for each child!
URL:https://stfrancisfm.org/event/easter-egg-hunt/
LOCATION:St. Francis Xavier Church\, 2057 Cleveland Ave\, Fort Myers\, FL\, 33901\, United States
CATEGORIES:Event
ATTACH;FMTTYPE=image/png:https://stfrancisfm.org/wp-content/uploads/2024/03/Easter-Egg-Hunt-Image-Events.png
END:VEVENT
END:VCALENDAR