BEGIN:VCALENDAR
VERSION:2.0
PRODID:-//St. Francis Xavier Catholic Church - ECPv6.9.0//NONSGML v1.0//EN
CALSCALE:GREGORIAN
METHOD:PUBLISH
X-ORIGINAL-URL:https://stfrancisfm.org
X-WR-CALDESC:Events for St. Francis Xavier Catholic Church
REFRESH-INTERVAL;VALUE=DURATION:PT1H
X-Robots-Tag:noindex
X-PUBLISHED-TTL:PT1H
BEGIN:VTIMEZONE
TZID:UTC
BEGIN:STANDARD
TZOFFSETFROM:+0000
TZOFFSETTO:+0000
TZNAME:UTC
DTSTART:20240101T000000
END:STANDARD
END:VTIMEZONE
BEGIN:VEVENT
DTSTART;TZID=UTC:20240328T180000
DTEND;TZID=UTC:20240328T210000
DTSTAMP:20260424T101215
CREATED:20240327T214907Z
LAST-MODIFIED:20240327T222246Z
UID:10000276-1711648800-1711659600@stfrancisfm.org
SUMMARY:Holy Thursday
DESCRIPTION:When: Holy Thursday (March 28th) \nTime: 6:00 PM \nWhere: St. Francis Xavier Church \n  \nJoin us for Holy Thursday Mass followed by a Eucharist Procession.  The procession will be followed with Adoration.  
URL:https://stfrancisfm.org/event/3070/
LOCATION:St. Francis Xavier Church\, 2057 Cleveland Ave\, Fort Myers\, FL\, 33901\, United States
CATEGORIES:Event
ATTACH;FMTTYPE=image/png:https://stfrancisfm.org/wp-content/uploads/2024/03/Holy-Thursday-Image-Events.png
END:VEVENT
END:VCALENDAR