BEGIN:VCALENDAR
VERSION:2.0
PRODID:-//St. Francis Xavier Catholic Church - ECPv6.9.0//NONSGML v1.0//EN
CALSCALE:GREGORIAN
METHOD:PUBLISH
X-WR-CALNAME:St. Francis Xavier Catholic Church
X-ORIGINAL-URL:https://stfrancisfm.org
X-WR-CALDESC:Events for St. Francis Xavier Catholic Church
REFRESH-INTERVAL;VALUE=DURATION:PT1H
X-Robots-Tag:noindex
X-PUBLISHED-TTL:PT1H
BEGIN:VTIMEZONE
TZID:UTC
BEGIN:STANDARD
TZOFFSETFROM:+0000
TZOFFSETTO:+0000
TZNAME:UTC
DTSTART:20240101T000000
END:STANDARD
END:VTIMEZONE
BEGIN:VEVENT
DTSTART;TZID=UTC:20240322T163000
DTEND;TZID=UTC:20240322T163000
DTSTAMP:20260422T225558
CREATED:20240327T222911Z
LAST-MODIFIED:20240327T222917Z
UID:10000018-1711125000-1711125000@stfrancisfm.org
SUMMARY:Lenten Fish Fry Fridays at St. Francis Xavier!
DESCRIPTION:When: Every Friday in Lent\, starting February 23rd \nTime: 4:30 PM \nWhere: Parish Hall\, St. Francis Xavier Church \nCost: $12 Adults\, $5 Children \n\nDelicious Fried Fish\nGolden Fries\nSavory Hush Puppies\nRefreshing Cole Slaw\nSweet Dessert\nRefreshing Drink\n\nGather with friends and family for a delicious meal and warm community spirit.
URL:https://stfrancisfm.org/event/lenten-fish-fry-fridays-at-st-francis-xavier-2-2/
LOCATION:St. Francis Xavier Church\, 2057 Cleveland Ave\, Fort Myers\, FL\, 33901\, United States
CATEGORIES:Event
END:VEVENT
END:VCALENDAR