BEGIN:VCALENDAR
VERSION:2.0
PRODID:-//St. Francis Xavier Catholic Church - ECPv6.9.0//NONSGML v1.0//EN
CALSCALE:GREGORIAN
METHOD:PUBLISH
X-ORIGINAL-URL:https://stfrancisfm.org
X-WR-CALDESC:Events for St. Francis Xavier Catholic Church
REFRESH-INTERVAL;VALUE=DURATION:PT1H
X-Robots-Tag:noindex
X-PUBLISHED-TTL:PT1H
BEGIN:VTIMEZONE
TZID:UTC
BEGIN:STANDARD
TZOFFSETFROM:+0000
TZOFFSETTO:+0000
TZNAME:UTC
DTSTART:20240101T000000
END:STANDARD
END:VTIMEZONE
BEGIN:VEVENT
DTSTART;TZID=UTC:20240217T153000
DTEND;TZID=UTC:20240217T153000
DTSTAMP:20260423T002809
CREATED:20240215T230548Z
LAST-MODIFIED:20240308T223301Z
UID:10000012-1708183800-1708183800@stfrancisfm.org
SUMMARY:St. Francis Xavier Spaghetti Dinner & Parade Parking!
DESCRIPTION:Join us on Saturday\, February 17th for the Edison Festival of Light! \n\nDelicious Spaghetti Dinner: Adults $14\, Kids $5 (dine-in or carry-out)\nFree Parade Parking: With dinner ticket purchase\nAdditional Parade Parking: $10 per vehicle\nDoors open at 3:30pm\, close at 6:00pm\n\nTickets: \n\nChurch or Gift Shop after Masses\nParish or School Offices during business hours\n\nDon’t miss this festive community event!
URL:https://stfrancisfm.org/event/st-francis-xavier-spaghetti-dinner-parade-parking/
LOCATION:St. Francis Xavier Church\, 2057 Cleveland Ave\, Fort Myers\, FL\, 33901\, United States
CATEGORIES:Event
END:VEVENT
END:VCALENDAR